BEGIN:VCALENDAR
VERSION:2.0
PRODID:http://www.egotec.com/
METHOD:PUBLISH
BEGIN:VTIMEZONE
X-LIC-LOCATION:Europe/Berlin
TZID:Europe/Berlin
END:VTIMEZONE
BEGIN:VEVENT
CREATED:20260415T144845Z
SUMMARY:Business Model Innovation:Rethinking Value Creation in an Era of Disruption
DTSTART:20260520T140000Z
DTEND:20260520T153000Z
LOCATION:Seminarraum 102, Bachstrasse 18k,, Jena
DESCRIPTION:Business Model Innovation:Rethinking Value Creation in an Era of Disruption\n\nPresentation by Patrick Spieth (University of Kassel) in the Jena Economics Research Seminar\n\nhttps://www.jsec.uni-jena.de/2717/jers-patrick-spieth
END:VEVENT
END:VCALENDAR
